BEGIN:VCALENDAR
PRODID:-//AT Content Types//AT Event//EN
VERSION:1.0
BEGIN:VEVENT
DTSTART:20241007T210000Z
DTEND:20241007T230000Z
DCREATED:20241006T150502Z
UID:ATEvent-b9ac82ad1cfa40ce955d323d4f8b3b4c
SEQUENCE:0
LAST-MODIFIED:20241006T151634Z
SUMMARY:SBDC: Hispanic Heritage Month Community Celebration
DESCRIPTION:The celebration will consist of:\n\nThe first networking e
 vent for Spanish speaking small business owners\nResource tables/Spani
 sh speaking representatives from organizations in town that provide re
 sources for Spanish speaking small business owners\nAn introduction to
  the organizations that made the event possible\nAn introduction to th
 e instructors and their affiliations (SBDC\, ACHLA Alliance of Chicano
 s\, Hispanics and Latin Americans) and the SBA)\nCertificates awarded 
 to the small business owners who participated in our workshops
LOCATION:One Discovery Square
PRIORITY:3
TRANSP:0
END:VEVENT
END:VCALENDAR
