BEGIN:VCALENDAR
PRODID:-//AT Content Types//AT Event//EN
VERSION:2.0
METHOD:PUBLISH
BEGIN:VEVENT
DTSTAMP:20260421T190816Z
CREATED:20210511T005909Z
UID:ATEvent-1e40ae2d0fca4523a5c5c2fc204452dd
LAST-MODIFIED:20211213T164622Z
SUMMARY:May 2021: Coalition for Rochester Area Housing Alliance
DTSTART:20210512T150000Z
DTEND:20210512T163000Z
DESCRIPTION:Topics include: State of Housing\; City of Rochester's Sus
 tainability Plan\; MN rental assistance program\; Households behind on
  rent\; Greater MN Housing Fund Regional Forum\; Senior Housing Co-des
 ign\; Olmsted County $31M from ARPA\;
LOCATION:Virtual Meeting
CATEGORIES:RAF, sustainability, Housing, housing
CLASS:PUBLIC
END:VEVENT
END:VCALENDAR
