BEGIN:VCALENDAR
PRODID:-//AT Content Types//AT Event//EN
VERSION:1.0
BEGIN:VEVENT
DTSTART:20220324T230000Z
DTEND:20220325T003000Z
DCREATED:20220210T160328Z
UID:ATEvent-ad2336343cc641f98f4f6209c10544c9
SEQUENCE:0
LAST-MODIFIED:20220324T162441Z
SUMMARY:Riverfront Talks: Urban Design + Programming
PRIORITY:3
TRANSP:0
END:VEVENT
END:VCALENDAR
