BEGIN:VCALENDAR
PRODID:-//AT Content Types//AT Event//EN
VERSION:1.0
BEGIN:VEVENT
DTSTART:20210526T180000Z
DTEND:20210526T193000Z
DCREATED:20210507T145408Z
UID:ATEvent-c60cbe78a1e24de08ed9ebb45c6d21e2
SEQUENCE:0
LAST-MODIFIED:20210601T175538Z
SUMMARY:Rochester Area - Construction Small Business Support (May 2021)
LOCATION:Microsoft Teams Meeting
PRIORITY:3
TRANSP:0
END:VEVENT
END:VCALENDAR
