BEGIN:VCALENDAR
PRODID:-//AT Content Types//AT Event//EN
VERSION:2.0
METHOD:PUBLISH
BEGIN:VEVENT
DTSTAMP:20260419T130508Z
CREATED:20240111T162229Z
UID:ATEvent-cf8ac83ad449473ab9c1129359183c30
LAST-MODIFIED:20240128T135944Z
SUMMARY:2024: The Year of Respect--Mission: Kick-Off
DTSTART:20240119T233000Z
DTEND:20240120T003000Z
DESCRIPTION:We have two REMARKABLE guests plus a GREAT evening\nplanne
 d that will both bless and INSPIRE YOU.\nGeorge Thompson back in the d
 ay was not allowed to\nattend High School with white students. Today G
 eorge\nis one of Rochester's most respected citizens. To know\nGeorge 
 is to love the man...He is an INSPIRATION.\nIsrael Rocha has an equall
 y inspiring story. Within the\npast two years Israel went from a life 
 long drug addict\nwho was homeless to DRY\, marrying his girl friend,\
 nuniting their family and 7 year old son PLUS gaining\nsobriety. His p
 resence exudes valuing people of all\nkinds. The Rocha's now have an a
 partment and bless\nothers.\nOther guests will lift your spirit as we 
 talk about what will\nhappen this year in 2024 Year of RESPECT.
LOCATION:125 Live
CATEGORIES:networking, key, civic engagement
CLASS:PUBLIC
END:VEVENT
END:VCALENDAR
