BEGIN:VCALENDAR
PRODID:-//AT Content Types//AT Event//EN
VERSION:1.0
BEGIN:VEVENT
DTSTART:20240328T170000Z
DTEND:20240328T183000Z
DCREATED:20240117T154628Z
UID:ATEvent-478281dc156a48ea922b0f6451f5513c
SEQUENCE:0
LAST-MODIFIED:20240304T184620Z
SUMMARY:MPR Rochester RDAC Spring 2024 Meeting\; Chandra Kavati\, Senior Vice President\, Chief Partnerships & Revenue Officer.
DESCRIPTION:Topics include: Quarterly updates Possible Topics\;
PRIORITY:3
TRANSP:0
END:VEVENT
END:VCALENDAR
