BEGIN:VCALENDAR
PRODID:-//AT Content Types//AT Event//EN
VERSION:2.0
METHOD:PUBLISH
BEGIN:VEVENT
DTSTAMP:20260421T190443Z
CREATED:20230802T140815Z
UID:ATEvent-9ff56cdada744c318c7c08d73b4bad0f
LAST-MODIFIED:20230802T141621Z
SUMMARY:Isaiah Forum with Rochester Area Legislators
DTSTART:20210410T153000Z
DTEND:20210410T180000Z
LOCATION:Peace United Church of Christ 1503 2nd Ave. NE\, Rochester
CATEGORIES:faith, ISAIAH, covid, sustainability
CLASS:PUBLIC
END:VEVENT
END:VCALENDAR
