BEGIN:VCALENDAR
PRODID:-//AT Content Types//AT Event//EN
VERSION:2.0
METHOD:PUBLISH
BEGIN:VEVENT
DTSTAMP:20260425T191122Z
CREATED:20210207T133448Z
UID:ATEvent-be23e2140c1244c286860d9b1e6bba93
LAST-MODIFIED:20211213T171413Z
SUMMARY:Feb. 2021: Coaltion for Rochester Area Housing Alliance
DTSTART:20210210T160000Z
DTEND:20210210T173000Z
DESCRIPTION:Topics include: Housing priorities based on Maxfield housi
 ng findings\; 2021 beginning of the year updates\; Housing partnership
 \; Project Proposal
LOCATION:Virtual Meeting
CATEGORIES:RAF, Housing, housing
CLASS:PUBLIC
END:VEVENT
END:VCALENDAR
