BEGIN:VCALENDAR
PRODID:-//AT Content Types//AT Event//EN
VERSION:2.0
METHOD:PUBLISH
BEGIN:VEVENT
DTSTAMP:20260424T132418Z
CREATED:20260313T155905Z
UID:ATEvent-7f70bf251bdd4681995900cbf2d41bf0
LAST-MODIFIED:20260313T160258Z
SUMMARY:Community Listening Session on Mental Health Clubhouse
DTSTART:20260325T172500Z
DTEND:20260325T200000Z
DESCRIPTION:Olmsted County\, NAMI Southeast MN\, and Vail Communities 
 invite you to join a Community Listening Session on the International 
 Clubhouse Model of Mental Health recovery
LOCATION:Rochester Public Library
CATEGORIES:mental health, Health
CLASS:PUBLIC
END:VEVENT
END:VCALENDAR
