BEGIN:VCALENDAR
PRODID:-//AT Content Types//AT Event//EN
VERSION:1.0
BEGIN:VEVENT
DTSTART:20200114T000000Z
DTEND:20200114T020000Z
DCREATED:20200109T042321Z
UID:ATEvent-4a01209e1c844b309777b60065fb0c8d
SEQUENCE:0
LAST-MODIFIED:20200109T042631Z
SUMMARY:Community Health and Wellness Fair
DESCRIPTION:Discover the Power of Lifestyle Medicine
LOCATION:Rochester Seventh-Day Adventist Church1100 37th St NW\, Rochester\, MN 55901
PRIORITY:3
TRANSP:0
END:VEVENT
END:VCALENDAR
