BEGIN:VCALENDAR
PRODID:-//AT Content Types//AT Event//EN
VERSION:1.0
BEGIN:VEVENT
DTSTART:20251122T010000Z
DTEND:20251122T023000Z
DCREATED:20170201T140645Z
UID:ATEvent-ec3aa9c05d7e43bb8845d3a61f895810
SEQUENCE:0
LAST-MODIFIED:20251017T142122Z
SUMMARY:RPS Sound School Presents Tuvergen Band
DESCRIPTION:During the week of November 17\, Tuvergen Band will visit 
 public schools in Rochester to lead workshops and performances for stu
 dents. These visits are part of the Sound School program\, which bring
 s professional musicians into classrooms for hands-on learning\, cultu
 ral exchange\, and musical exploration. The residency ends with the pu
 blic concert at the Chateau Theatre\, where the community can enjoy th
 e same exciting music and cultural experience.
LOCATION:Chateau Theatre
PRIORITY:3
TRANSP:0
END:VEVENT
END:VCALENDAR
