BEGIN:VCALENDAR
PRODID:-//AT Content Types//AT Event//EN
VERSION:2.0
METHOD:PUBLISH
BEGIN:VEVENT
DTSTAMP:20260420T014142Z
CREATED:20211206T153456Z
UID:ATEvent-8b7e0ace30cc4e0d8fe874409605eabb
LAST-MODIFIED:20220128T195658Z
SUMMARY:Commitment to Racial Justice - Day of Learning
DTSTART:20220224T140000Z
DTEND:20220224T180000Z
DESCRIPTION:Sponsored by FREC\, FSR Channel One and Rochester Nonprofi
 t Consortium
LOCATION:Zoom
CATEGORIES:Diversity, npc
CLASS:PUBLIC
END:VEVENT
END:VCALENDAR
