BEGIN:VCALENDAR
PRODID:-//AT Content Types//AT Event//EN
VERSION:2.0
METHOD:PUBLISH
BEGIN:VEVENT
DTSTAMP:20260423T102541Z
CREATED:20240429T152534Z
UID:ATEvent-dd42a347946b47e49ae7afa1d5fd62c2
LAST-MODIFIED:20240531T145519Z
SUMMARY:CMRC May 2024 Meeting
DTSTART:20240530T213000Z
DTEND:20240530T230000Z
DESCRIPTION:Confirmed Topics CMRC Updates\, PossAbilities DEI Outreach
 \; C2C free FAFSA CBO support\, United Way DEI Panel Convening\; Poten
 tial Topic: Olmsted County Mobilizing Olmsted Voices for Equity (M.O.V
 .E.)
CATEGORIES:diversity, disability, community, c2c, key, CMRC, united way
CLASS:PUBLIC
END:VEVENT
END:VCALENDAR
