BEGIN:VCALENDAR
PRODID:-//AT Content Types//AT Event//EN
VERSION:2.0
METHOD:PUBLISH
BEGIN:VEVENT
DTSTAMP:20260420T020507Z
CREATED:20201113T194203Z
UID:ATEvent-ba2131d4f71345feb47686103854d4cb
LAST-MODIFIED:20250824T164224Z
SUMMARY:IRC and World Festival
DTSTART:20250822T160000Z
DTEND:20250822T170000Z
CLASS:PUBLIC
END:VEVENT
END:VCALENDAR
