BEGIN:VCALENDAR
PRODID:-//AT Content Types//AT Event//EN
VERSION:1.0
BEGIN:VEVENT
DTSTART:20240827T180000Z
DTEND:20240827T190000Z
DCREATED:20240827T170709Z
UID:ATEvent-777e8219d539402b84431e03ad2bb3e1
SEQUENCE:0
LAST-MODIFIED:20240912T165929Z
SUMMARY:August 2024 Rochester Vision 2050 Community Engagement
DESCRIPTION:Rochester Vision 2050\nHelp Shape Rochester's Future\n\nRo
 chester Mayor Kim Norton would like to hear your vision for Rochesterâ
 €™s next generation. \n\nRochester Vision 2050 seeks your input to cre
 ate a collective vision for our city's future. \nYour perspective help
 s to ensure that our policies\, investments\, and initiatives align wi
 th the collective will and wisdom of our community.
LOCATION:TBD
PRIORITY:3
TRANSP:0
END:VEVENT
END:VCALENDAR
