BEGIN:VCALENDAR
PRODID:-//AT Content Types//AT Event//EN
VERSION:1.0
BEGIN:VEVENT
DTSTART:20240117T213000Z
DTEND:20240117T233000Z
DCREATED:20240117T150848Z
UID:ATEvent-31e87226ab5f4a338a9d703a83e03008
SEQUENCE:0
LAST-MODIFIED:20240118T164401Z
SUMMARY:City Council Study Session: Future Transformation in the city
DESCRIPTION:Potential for transformation throughout the city will be t
 he topic of a two-part Rochester City Council discussion starting Wedn
 esday.\n\nWith Mayo Clinic planning a $5 billion investment with its â
 €śBold. Forward.\n\nUnbound. in Rochesterâ€ť initiative\, city staff w
 ill be asking the council for direction amid continuing change in the 
 city.
PRIORITY:3
TRANSP:0
END:VEVENT
END:VCALENDAR
