BEGIN:VCALENDAR
PRODID:-//AT Content Types//AT Event//EN
VERSION:2.0
METHOD:PUBLISH
BEGIN:VEVENT
DTSTAMP:20260422T070143Z
CREATED:20170615T163451Z
UID:ATEvent-66e8392d929e4ae891a25f4719242101
LAST-MODIFIED:20240601T155144Z
SUMMARY:Punch 9 for Harold Washington Feature Documentary
DTSTART:20240616T180000Z
DTEND:20240616T190000Z
DESCRIPTION:Supported by the Office of the Mayor\, Rochester City DEI\
 , in partnership with the NAACP
LOCATION:RCTC Hill Theatre\, 851 30th Av. SE\, Rochester\, MN
CATEGORIES:diversity, community, civic engagement, Diversity, NAACP
URL:https://www.eventbrite.com/e/punch-9-screening-tickets-909941368127
CLASS:PUBLIC
END:VEVENT
END:VCALENDAR
