BEGIN:VCALENDAR
PRODID:-//AT Content Types//AT Event//EN
VERSION:2.0
METHOD:PUBLISH
BEGIN:VEVENT
DTSTAMP:20260425T184654Z
CREATED:20171108T191348Z
UID:ATEvent-5bc72e15d1e947719b894b69665d9f51
LAST-MODIFIED:20200201T190443Z
SUMMARY:C4G: Social Services Action Group
DTSTART:20200218T000000Z
DTEND:20200218T013000Z
LOCATION:Congregational Church\, 974 Skyline Dr SW.
CATEGORIES:Housing, Homelessness, social services, homelessness, housing
CLASS:PUBLIC
END:VEVENT
END:VCALENDAR
