BEGIN:VCALENDAR
PRODID:-//AT Content Types//AT Event//EN
VERSION:1.0
BEGIN:VEVENT
DTSTART:20210615T000000Z
DTEND:20210615T013000Z
DCREATED:20210609T214206Z
UID:ATEvent-6517bd79ab134b0db4f42043ebcca07d
SEQUENCE:0
LAST-MODIFIED:20210609T215332Z
SUMMARY:C4G: Minnesota Housing Partnership (MHP) -- Summary of MN Housing Legislative Activities
LOCATION:Zoom
PRIORITY:3
TRANSP:0
END:VEVENT
END:VCALENDAR
