BEGIN:VCALENDAR
PRODID:-//AT Content Types//AT Event//EN
VERSION:2.0
METHOD:PUBLISH
BEGIN:VEVENT
DTSTAMP:20260419T235649Z
CREATED:20211004T153046Z
UID:ATEvent-081ca5c1836947958949feb29615c848
LAST-MODIFIED:20211213T173116Z
SUMMARY:C4G Housing: Unified Development Code
DTSTART:20211012T000000Z
DTEND:20211012T010000Z
LOCATION:Zoom
CATEGORIES:housing, c4g
CLASS:PUBLIC
END:VEVENT
END:VCALENDAR
