BEGIN:VCALENDAR
PRODID:-//AT Content Types//AT Event//EN
VERSION:2.0
METHOD:PUBLISH
BEGIN:VEVENT
DTSTAMP:20260425T184848Z
CREATED:20190701T160508Z
UID:ATEvent-2e4a25c8a5834227ae9ddd58efdf51c9
LAST-MODIFIED:20200201T190231Z
SUMMARY:C4G: Affordable Housing Action Group
DTSTART:20200211T010000Z
DTEND:20200211T020000Z
LOCATION:United Way of Olmsted County 903 W Center St\, Ste 100\, Rochester\, Minnesota 55902
CATEGORIES:housing
CLASS:PUBLIC
END:VEVENT
END:VCALENDAR
