BEGIN:VCALENDAR
PRODID:-//AT Content Types//AT Event//EN
VERSION:1.0
BEGIN:VEVENT
DTSTART:20220311T003000Z
DTEND:20220311T020000Z
DCREATED:20220310T120310Z
UID:ATEvent-0ae5e0a7b87d4135b5f55787f5ed7b9b
SEQUENCE:0
LAST-MODIFIED:20220310T120412Z
SUMMARY:C2: Community + Connection Forum - Homeless in Rochester
PRIORITY:3
TRANSP:0
END:VEVENT
END:VCALENDAR
