BEGIN:VCALENDAR
PRODID:-//AT Content Types//AT Event//EN
VERSION:2.0
METHOD:PUBLISH
BEGIN:VEVENT
DTSTAMP:20260423T110613Z
CREATED:20250801T171550Z
UID:ATEvent-89cd069ab9214ed2b3f95122d87fc6e6
LAST-MODIFIED:20260329T162206Z
SUMMARY:Bullpen | Mayo Clinic Pitch Fest
DTSTART:20250813T160000Z
DTEND:20250815T200000Z
DESCRIPTION:This is an opportunity to introduce yourself to an elite e
 cosystem of Life Science Dealmakers to share your expertise and innova
 tions:
LOCATION:Two Discovery Square
CATEGORIES:EDA, STEM, America City for Health, DMC, Health
CONTACT:Chris Schad\, chrisschad@dmceda.org
CLASS:PUBLIC
END:VEVENT
END:VCALENDAR
