BEGIN:VCALENDAR
PRODID:-//AT Content Types//AT Event//EN
VERSION:2.0
METHOD:PUBLISH
BEGIN:VEVENT
DTSTAMP:20260421T112854Z
CREATED:20170208T172722Z
UID:ATEvent-23c7b01c02c9400db64849e49b318fb5
LAST-MODIFIED:20221202T135047Z
SUMMARY:YourClassical MPR and Rochester Civic Music: Bring the SING
DTSTART:20221203T220000Z
DTEND:20221203T230000Z
DESCRIPTION:YourClassical MPR's fun\, free event Bring the Sing is ret
 urning to Rochester! Minnesota Public Radio\, Rochester Civic Music\, 
 Rochester Downtown Alliance and Threshold Arts are partnering to invit
 e everyone in Rochester and Southeast Minnesota to join in YourClassic
 al MPR’s Bring the Sing at 4 p.m. Saturday\, Dec. 3\, in the Peace P
 laza. Join with friends\, family and neighbors in singing along with l
 ocal musicians LaSonya Natividad\, Dianna Parks\, Mitch Stevenson\, Er
 ic Straubmuller and Chris Wessel in a mass rendition of many festive\,
  well-known winter and holiday favorites.
LOCATION:Peace Plaza
CATEGORIES:operations, Diversity Council
CONTACT:
CLASS:PUBLIC
END:VEVENT
END:VCALENDAR
