BEGIN:VCALENDAR
PRODID:-//AT Content Types//AT Event//EN
VERSION:1.0
BEGIN:VEVENT
DTSTART:20210930T223000Z
DTEND:20211001T013000Z
DCREATED:20210930T124322Z
UID:ATEvent-d6f5cafc124740f8bac7a42ac8cd2ea9
SEQUENCE:0
LAST-MODIFIED:20211009T134548Z
SUMMARY:Bolder Options' 2021 Gala
LOCATION:Minneapolis Event Centers -The Riverside  212 2nd Street SE\, Mpls\, MN 55414
PRIORITY:3
TRANSP:0
END:VEVENT
END:VCALENDAR
