BEGIN:VCALENDAR
PRODID:-//AT Content Types//AT Event//EN
VERSION:2.0
METHOD:PUBLISH
BEGIN:VEVENT
DTSTAMP:20260420T033410Z
CREATED:20220125T190057Z
UID:ATEvent-ce1af200f9a34706b438f5b4160e2583
LAST-MODIFIED:20220125T190259Z
SUMMARY:Art Contest Submssion Deadline
DTSTART:20220228T220000Z
DTEND:20220228T220000Z
CATEGORIES:art
CLASS:PUBLIC
END:VEVENT
END:VCALENDAR
