BEGIN:VCALENDAR
PRODID:-//AT Content Types//AT Event//EN
VERSION:1.0
BEGIN:VEVENT
DTSTART:20211029T150000Z
DTEND:20211029T160000Z
DCREATED:20211026T002209Z
UID:ATEvent-2de3b5aa7faa414d9d0057c3ec047d93
SEQUENCE:0
LAST-MODIFIED:20211026T002352Z
SUMMARY:DMC Community For Health Steering Committee October Meeting
LOCATION:Virtual Meeting
PRIORITY:3
TRANSP:0
END:VEVENT
END:VCALENDAR
