BEGIN:VCALENDAR
PRODID:-//AT Content Types//AT Event//EN
VERSION:1.0
BEGIN:VEVENT
DTSTART:20240209T003000Z
DTEND:20240209T020000Z
DCREATED:20231106T164543Z
UID:ATEvent-750f1c0d35ad4fd8a9ce7db9ea8504a3
SEQUENCE:0
LAST-MODIFIED:20260329T154325Z
SUMMARY:Age Friendly Olmsted County Annual Update
DESCRIPTION:Attendees will learn about AFOC 2024 plans for continuing 
 the efforts of the last year and new initiatives related to age friend
 ly businesses and universities.
LOCATION:Christ United Methodist Church- Rochester\, MN
PRIORITY:3
TRANSP:0
END:VEVENT
END:VCALENDAR
