BEGIN:VCALENDAR
PRODID:-//AT Content Types//AT Event//EN
VERSION:1.0
BEGIN:VEVENT
DTSTART:20210826T233000Z
DTEND:20210827T013000Z
DCREATED:20210806T152611Z
UID:ATEvent-e3ad3ce95b2b42d2a69b2be3b82f6fb1
SEQUENCE:0
LAST-MODIFIED:20210806T163335Z
SUMMARY:C2G Forum: Affordable Housing and Homelessness
LOCATION:125 Live - Center for Active Adults (125 Elton Hill Dr. NW)
PRIORITY:3
TRANSP:0
END:VEVENT
END:VCALENDAR
