BEGIN:VCALENDAR
PRODID:-//AT Content Types//AT Event//EN
VERSION:2.0
METHOD:PUBLISH
BEGIN:VEVENT
DTSTAMP:20260422T180227Z
CREATED:20190104T141002Z
UID:ATEvent-dd79c4d2438342bea2502e690cd12a58
LAST-MODIFIED:20250116T153623Z
SUMMARY:ZVMS Street Medicine Eye Care Clinic on January 25
DTSTART:20250125T190000Z
DTEND:20250125T220000Z
DESCRIPTION:Following the eye care clinic at Christ United Methodist C
 hurch on January 25\, we will provide eye\ncare and glasses through re
 gular drop-in clinics at additional locations and through street round
 s.
LOCATION:at Christ United Methodist Church (400 5th Ave SW\, Rochester\, MN)
CATEGORIES:Kiwanis, childcare, YMCA, Conversation Y: Community Development
CONTACT:Beth Kangas\, PhD\, 507-722-8725\, kangas.beth@zvms.org
CLASS:PUBLIC
END:VEVENT
END:VCALENDAR
