BEGIN:VCALENDAR
PRODID:-//AT Content Types//AT Event//EN
VERSION:1.0
BEGIN:VEVENT
DTSTART:20260121T160000Z
DTEND:20260121T170000Z
DCREATED:20201020T145948Z
UID:ATEvent-b95ef27eee7c4e87a38675a457b3f3c2
SEQUENCE:0
LAST-MODIFIED:20260113T155529Z
SUMMARY:Rochester Area Foundation - Scholarship Information
DESCRIPTION:Volunteers Needed - Rochester Area Foundation Scholarship 
 Committee
LOCATION:Virtual Meeting
PRIORITY:3
TRANSP:0
END:VEVENT
END:VCALENDAR
