BEGIN:VCALENDAR
PRODID:-//AT Content Types//AT Event//EN
VERSION:2.0
METHOD:PUBLISH
BEGIN:VEVENT
DTSTAMP:20260420T013931Z
CREATED:20190428T123317Z
UID:ATEvent-742705c361bf4dc2b95822dd81c20e72
LAST-MODIFIED:20250818T154846Z
SUMMARY:Vigil for those impacted by the One Big Bill
DTSTART:20250617T221500Z
DTEND:20250617T233000Z
DESCRIPTION:Community members and faith leaders will hold the vigil im
 mediately before the Olmsted County Board meeting to bear witness to t
 he suffering this bill will unleash on our families and communities. W
 e will ask local county\, city\, and school board leaders to use their
  power to speak up against the cuts that will harm their constituents 
 and their budgets.
LOCATION:Olmsted County Government Center
CATEGORIES:diversity, living wage, sustainability, job, Civic Equity, poverty, community engagement, isaiah
CONTACT:Olivia Bergen\, obergen@isaiahmn.org
CLASS:PUBLIC
END:VEVENT
END:VCALENDAR
