BEGIN:VCALENDAR
PRODID:-//AT Content Types//AT Event//EN
VERSION:2.0
METHOD:PUBLISH
BEGIN:VEVENT
DTSTAMP:20260422T224441Z
CREATED:20190514T022733Z
UID:ATEvent-f8da582f24fa42b1aa90d374274aa471
LAST-MODIFIED:20251112T171216Z
SUMMARY:World Cafe - Uplifting Parent Voices for Multilingual Learners
DTSTART:20251119T230000Z
DTEND:20251120T010000Z
DESCRIPTION:This evening is dedicated to sharing crucial insights and\
 ncommunity-driven solutions learned from multilingual\nand Native fami
 lies across Minnesota on navigating\nour education system.
LOCATION:Edison Building 615 7th St SW\, Rochester\, MN 55902
CATEGORIES:rps, Education
CLASS:PUBLIC
END:VEVENT
END:VCALENDAR
