BEGIN:VCALENDAR
PRODID:-//AT Content Types//AT Event//EN
VERSION:1.0
BEGIN:VEVENT
DTSTART:20240922T181500Z
DTEND:20240922T214500Z
DCREATED:20180205T165332Z
UID:ATEvent-be2d1358d4a14bc485f5c6da0dc9bdae
SEQUENCE:0
LAST-MODIFIED:20240920T151249Z
SUMMARY:Unlock Your Future FAFSA
DESCRIPTION:College Financial Support
LOCATION:St Clare Room\, St. Francis of Assisi
PRIORITY:3
TRANSP:0
END:VEVENT
END:VCALENDAR
