BEGIN:VCALENDAR
PRODID:-//AT Content Types//AT Event//EN
VERSION:2.0
METHOD:PUBLISH
BEGIN:VEVENT
DTSTAMP:20260422T211045Z
CREATED:20210825T180108Z
UID:ATEvent-622725bb942e44a4b873fbe1b86471fc
LAST-MODIFIED:20250111T153557Z
SUMMARY:Trafficking is Still Here
DTSTART:20250118T150000Z
DTEND:20250118T180000Z
DESCRIPTION:21 million people are trafficked globally every day. Women
  and girls account for 75%\nof that number. It continues in our commun
 ity also. Local professionals such as law\nenforcement\, immigration\,
  and victim services\, attempts to advance best prevention\npractices 
 and keeping victims safe.
LOCATION:Assisi Heights Spirituality Center
CATEGORIES:youth, Civic Equity
CLASS:PUBLIC
END:VEVENT
END:VCALENDAR
