BEGIN:VCALENDAR
PRODID:-//AT Content Types//AT Event//EN
VERSION:1.0
BEGIN:VEVENT
DTSTART:20240312T130000Z
DTEND:20240314T220000Z
DCREATED:20170829T002409Z
UID:ATEvent-ef32592fc68a4926a66cb8c7174dc0e5
SEQUENCE:0
LAST-MODIFIED:20240302T185530Z
SUMMARY:Thermal Energy Network Symposium
DESCRIPTION:Participants will benefit from two days of insights\, lear
 nings\, and information leaving them with a robust foundation on how t
 o start their community or city on the path toward installation of the
 se thermal energy networks. In addition\, participants will have made 
 valuable acquaintances and contacts that will help guide them along th
 e way.
LOCATION:Mayo Civic Center\, Rochester\, Minnesota
PRIORITY:3
TRANSP:0
END:VEVENT
END:VCALENDAR
