BEGIN:VCALENDAR
PRODID:-//AT Content Types//AT Event//EN
VERSION:2.0
METHOD:PUBLISH
BEGIN:VEVENT
DTSTAMP:20260423T003842Z
CREATED:20170208T180953Z
UID:ATEvent-c80502e9f4134bd992dd1356e7f96c7f
LAST-MODIFIED:20220816T215528Z
SUMMARY:The Neuroscience of Leadership: How Emotion and Stress Influence Leadership Decisions — Aug 18 PEN Webinar
DTSTART:20220819T010000Z
DTEND:20220819T020000Z
DESCRIPTION:Traditional leadership development is focused on teaching 
 leaders how to lead\, but has few insights into Why People Follow.
LOCATION:Chamber of Commerce
CATEGORIES:education
URL:https://www.performanceexcellencenetwork.org/pensights/events/the-neuroscience-of-leadership-how-emotion-and-stress-influence-leadership-decisions-aug-18-pen-webinar/
CLASS:PUBLIC
END:VEVENT
END:VCALENDAR
