BEGIN:VCALENDAR
PRODID:-//AT Content Types//AT Event//EN
VERSION:2.0
METHOD:PUBLISH
BEGIN:VEVENT
DTSTAMP:20260420T121509Z
CREATED:20180402T135107Z
UID:ATEvent-7d2d877f5a774df881cad9db9167a9d2
LAST-MODIFIED:20241022T142428Z
SUMMARY:Assisi Heights: The Heart is a County
DTSTART:20241023T233000Z
DTEND:20241024T010000Z
DESCRIPTION:Stephanie Saldaña will begin by sharing the stories of in
 ter-religious friendship she has\nwitnessed over decades in the Middle
  East.
CATEGORIES:compassion, civic engagement
CLASS:PUBLIC
END:VEVENT
END:VCALENDAR
