BEGIN:VCALENDAR
PRODID:-//AT Content Types//AT Event//EN
VERSION:1.0
BEGIN:VEVENT
DTSTART:20260214T160000Z
DTEND:20260214T180000Z
DCREATED:20200106T015125Z
UID:ATEvent-667f0e1f74e940c29a38308543514dca
SEQUENCE:0
LAST-MODIFIED:20260201T171647Z
SUMMARY:The Art of Detachment
DESCRIPTION:Unhealthy attachment to people\, outcomes\, jobs\, relatio
 nships\, careers\, even sports teams can quietly shape how we live and
  our quality of life.
LOCATION:1723 1st ST NW Rochester\, MN 55901
PRIORITY:3
TRANSP:0
END:VEVENT
END:VCALENDAR
