BEGIN:VCALENDAR
PRODID:-//AT Content Types//AT Event//EN
VERSION:1.0
BEGIN:VEVENT
DTSTART:20240504T140000Z
DTEND:20240504T190000Z
DCREATED:20180119T141305Z
UID:ATEvent-9eddc5bd1f8248f099c108eb861c6466
SEQUENCE:0
LAST-MODIFIED:20260321T155800Z
SUMMARY:Tenth Annual Earthfest Export
DESCRIPTION:While the impacts of climate change are increasingly comin
 g into focus in Minnesota\, many of us are left wondering how we can h
 elp accelerate action and solutions to the challenges of climate chang
 e. From collective action to developing a climate solutions mindset\, 
 this talk will explore the multitude of opportunities we all have to h
 elp accelerate climate action in our communities\, and beyond.
LOCATION:Northrop Education Center\, 201 8th St. NW
PRIORITY:3
TRANSP:0
END:VEVENT
END:VCALENDAR
