BEGIN:VCALENDAR
PRODID:-//AT Content Types//AT Event//EN
VERSION:1.0
BEGIN:VEVENT
DTSTART:20240529T173000Z
DTEND:20240529T190000Z
DCREATED:20161107T191148Z
UID:ATEvent-d95754753c004f5baf8935e72caaa1db
SEQUENCE:0
LAST-MODIFIED:20240605T144228Z
SUMMARY:Star Tribune Minnesota Matters Rochester
DESCRIPTION:Star Tribune journalists and editors are coming to Rochest
 er to learn from you.
LOCATION:Forager Brewery\, 1005 6th St NW Rochester\, MN 55901
PRIORITY:3
TRANSP:0
END:VEVENT
END:VCALENDAR
