BEGIN:VCALENDAR
PRODID:-//AT Content Types//AT Event//EN
VERSION:1.0
BEGIN:VEVENT
DTSTART:20221116T180000Z
DTEND:20221116T190000Z
DCREATED:20180302T144349Z
UID:ATEvent-7e9d4c6e2b1f4766888823a47e3ad0ef
SEQUENCE:0
LAST-MODIFIED:20221113T180810Z
SUMMARY:DMC: Sustainability Series: Sketchbox – Simplified and Free Energy Modeling Tool
DESCRIPTION:Join us for an interactive presentation by Slipstream\, a 
 mission-driven nonprofit organization\, that recently launched a free 
 version of its simplified energy modeling tool—Sketchbox.
LOCATION:Zoom
PRIORITY:3
TRANSP:0
END:VEVENT
END:VCALENDAR
