BEGIN:VCALENDAR
PRODID:-//AT Content Types//AT Event//EN
VERSION:1.0
BEGIN:VEVENT
DTSTART:20240918T163000Z
DTEND:20240918T180000Z
DCREATED:20180412T130332Z
UID:ATEvent-eeb74f700be442eda3df57b931c7fb05
SEQUENCE:0
LAST-MODIFIED:20240912T170832Z
SUMMARY:SOUTHERN MINNESOTA NON-TRADITIONAL FINANCING AND TA WORKSHOP
DESCRIPTION:Know a small business that would benefit from non-traditio
 nal financing and technical\nassistance? Please join us to see how the
 se services can benefit small businesses\, including:\n• Partnering 
 with conventional financing\n• Funding businesses with solely non-tr
 aditional financing programs\n• Technical assistance help such as bu
 siness plans\, cash flow projections\, licensing\nquestions\, etc.
PRIORITY:3
TRANSP:0
END:VEVENT
END:VCALENDAR
