BEGIN:VCALENDAR
PRODID:-//AT Content Types//AT Event//EN
VERSION:2.0
METHOD:PUBLISH
BEGIN:VEVENT
DTSTAMP:20260420T040004Z
CREATED:20160617T182437Z
UID:ATEvent-c2a98933f9904cf28b62b9ec4d046a1f
LAST-MODIFIED:20220829T233252Z
SUMMARY:SE MN Together Housing Bus Tour
DTSTART:20220928T130000Z
DTEND:20220928T220000Z
DESCRIPTION:Join us as we visit the communities of Pine Island\, North
 field\, and Kasson from the comfort of a coach bus!
LOCATION:
CATEGORIES:housing
CLASS:PUBLIC
END:VEVENT
END:VCALENDAR
