BEGIN:VCALENDAR
PRODID:-//AT Content Types//AT Event//EN
VERSION:2.0
METHOD:PUBLISH
BEGIN:VEVENT
DTSTAMP:20260424T194601Z
CREATED:20221024T160712Z
UID:ATEvent-a6c80759cbf542a48515396aeb6d2037
LAST-MODIFIED:20221213T124424Z
SUMMARY:December 2022 Rochester Area Foundation: Winter DEI Practitioner Convening and Luncheon (By Invitation)
DTSTART:20221209T160000Z
DTEND:20221209T180000Z
DESCRIPTION:RAF’s DEI Committee has committed to supporting area DEI
  practitioners by providing space where relationships\ncan be strength
 ened\, wisdom can be shared\, opportunities to collaborate and maximiz
 e limited resources can\nbe identified\, and current and new DEI effor
 ts can be built\, improved\, and promoted.
LOCATION:Rochester Area Foundation
CATEGORIES:RAF, Diversity, openbeam
CONTACT:Amanda Pelley\, amanda@rochesterarea.org
CLASS:PUBLIC
END:VEVENT
END:VCALENDAR
