BEGIN:VCALENDAR
PRODID:-//AT Content Types//AT Event//EN
VERSION:1.0
BEGIN:VEVENT
DTSTART:20240419T220000Z
DTEND:20240420T000000Z
DCREATED:20170412T163130Z
UID:ATEvent-5db0e0433b6744e699777fed0530e940
SEQUENCE:0
LAST-MODIFIED:20240419T122521Z
SUMMARY:RPS School Board Listening Session
DESCRIPTION:Hosted by Pamoja Women
LOCATION:Franklin Elementary\, 1891 9th Ave SE\, Rochester\, MN
PRIORITY:3
TRANSP:0
END:VEVENT
END:VCALENDAR
