BEGIN:VCALENDAR
PRODID:-//AT Content Types//AT Event//EN
VERSION:2.0
METHOD:PUBLISH
BEGIN:VEVENT
DTSTAMP:20260423T045510Z
CREATED:20130628T204851Z
UID:ATEvent-521ee9625a494268b4570c3296c32d80
LAST-MODIFIED:20250423T170931Z
SUMMARY:RCTC 2025 Administrative Professionals Conference
DTSTART:20250423T130000Z
DTEND:20250423T203000Z
DESCRIPTION:Training Conferences\nWe are proud to develop and present 
 conferences that help build and strengthen a sense of community. Our e
 vents give you an opportunity to build relationships with people who s
 hare your interests.\n\nLet us help put your professional conference i
 deas into action. Contact us today!
LOCATION:RCTC Heinz Center
CATEGORIES:education
CONTACT:
URL:https://www.rctc.edu/business-workforce-education/training-conferences/?fbclid=IwY2xjawI-akJleHRuA2FlbQIxMAABHS053a7P6Zuc6sqCmrwB_jtQUjlE9XtaHowGgWEd0-JMxCk9613w1GFZgQ_aem_1GwLVNvw1VzWfsMxR4SgUg
CLASS:PUBLIC
END:VEVENT
END:VCALENDAR
