BEGIN:VCALENDAR
PRODID:-//AT Content Types//AT Event//EN
VERSION:1.0
BEGIN:VEVENT
DTSTART:20260415T143000Z
DTEND:20260415T173000Z
DCREATED:20170311T130024Z
UID:ATEvent-38fd0219ce9a4d89a1b92e58bf44d123
SEQUENCE:0
LAST-MODIFIED:20260408T152555Z
SUMMARY:RAVA  2026 Annual Spring Volunteer Fair
DESCRIPTION:The Rochester Area Volunteer Administrators are happy to i
 nvite you to\nparticipate in our Annual Spring Volunteer Fair! It will
  take place on Wednesday,\n\nApril 15th\, at 125 Live. The Volunteer F
 air will be open to the public from 9:30 am-\n12:30 pm. Set-up for par
 ticipating organizations will start at 9 am. There is free\n\nparking 
 available at 125 Live.
PRIORITY:3
TRANSP:0
END:VEVENT
END:VCALENDAR
