BEGIN:VCALENDAR
PRODID:-//AT Content Types//AT Event//EN
VERSION:2.0
METHOD:PUBLISH
BEGIN:VEVENT
DTSTAMP:20260421T065951Z
CREATED:20170821T151823Z
UID:ATEvent-e4ec5f3953e84f038e20d30f12c42210
LAST-MODIFIED:20250829T134527Z
SUMMARY:Coming to the Table September 2025
DTSTART:20250903T223000Z
DTEND:20250904T000000Z
DESCRIPTION:This session's theme will be 𝐎𝐮𝐫 𝐈𝐦𝐦𝐢
 𝐠𝐫𝐚𝐭𝐢𝐨𝐧 𝐒𝐭𝐨𝐫𝐲: 𝐋𝐢𝐧𝐤
 𝐧𝐠 𝐏𝐚𝐬𝐭 𝐚𝐧𝐝 𝐏𝐫𝐞𝐬𝐞𝐧𝐭\,
  and will focus on ways our community can positively support our immig
 rant neighbors.
LOCATION:Rochester Public Library
CATEGORIES:compassion, Diversity, community
URL:https://comingtothetable.org/
CLASS:PUBLIC
END:VEVENT
END:VCALENDAR
