BEGIN:VCALENDAR
PRODID:-//AT Content Types//AT Event//EN
VERSION:2.0
METHOD:PUBLISH
BEGIN:VEVENT
DTSTAMP:20260424T143916Z
CREATED:20170405T021239Z
UID:ATEvent-696722e417464b70b1f63e10860a1748
LAST-MODIFIED:20220916T215540Z
SUMMARY:Q3 2022 MPR Regional Deveopment Advisory Committee
DTSTART:20220914T173000Z
DTEND:20220914T190000Z
DESCRIPTION:Featuring Duchesne Drew\, Senior Vice President of America
 n Public Media Group and President of Minnesota Public Radio as part o
 f his tour of Greater Minnesota MPR Regional Network and Brandt Willia
 ms: North Star Journey initiative from MPR
CATEGORIES:mpr, diversity, community
CONTACT:kay Hocker\, khocker@mpr.org
CLASS:PUBLIC
END:VEVENT
END:VCALENDAR
